BEGIN:VCALENDAR
VERSION:2.0
PRODID:-//Cornerstone - Senior Marketing - ECPv6.15.17.1//NONSGML v1.0//EN
CALSCALE:GREGORIAN
METHOD:PUBLISH
X-WR-CALNAME:Cornerstone - Senior Marketing
X-ORIGINAL-URL:https://cornerstoneseniormarketing.com
X-WR-CALDESC:Events for Cornerstone - Senior Marketing
REFRESH-INTERVAL;VALUE=DURATION:PT1H
X-Robots-Tag:noindex
X-PUBLISHED-TTL:PT1H
BEGIN:VTIMEZONE
TZID:America/New_York
BEGIN:DAYLIGHT
TZOFFSETFROM:-0500
TZOFFSETTO:-0400
TZNAME:EDT
DTSTART:20250309T070000
END:DAYLIGHT
BEGIN:STANDARD
TZOFFSETFROM:-0400
TZOFFSETTO:-0500
TZNAME:EST
DTSTART:20251102T060000
END:STANDARD
BEGIN:DAYLIGHT
TZOFFSETFROM:-0500
TZOFFSETTO:-0400
TZNAME:EDT
DTSTART:20260308T070000
END:DAYLIGHT
BEGIN:STANDARD
TZOFFSETFROM:-0400
TZOFFSETTO:-0500
TZNAME:EST
DTSTART:20261101T060000
END:STANDARD
BEGIN:DAYLIGHT
TZOFFSETFROM:-0500
TZOFFSETTO:-0400
TZNAME:EDT
DTSTART:20270314T070000
END:DAYLIGHT
BEGIN:STANDARD
TZOFFSETFROM:-0400
TZOFFSETTO:-0500
TZNAME:EST
DTSTART:20271107T060000
END:STANDARD
END:VTIMEZONE
BEGIN:VEVENT
DTSTART;TZID=America/New_York:20260327T120000
DTEND;TZID=America/New_York:20260327T130000
DTSTAMP:20260421T075737
CREATED:20260310T185542Z
LAST-MODIFIED:20260310T185542Z
UID:67832-1774612800-1774616400@cornerstoneseniormarketing.com
SUMMARY:Physicians Mutual Med Supp Portfolio Expansion - MI\, IN\, & KY
DESCRIPTION:Physicians Mutual is expanding its Medicare Supplement portfolio into Michigan\, Indiana\, and Kentucky—and Cornerstone Senior Marketing is here to support you every step of the way. \nRegister here for this informative session where we’ll review the full product expansion\, including Physicians Mutual’s patented Innovative G plan featuring an initial diminishing deductible phase\, along with their comprehensive suite of ancillary products. \nMike Story and Robin Huff from Physicians Mutual will lead the presentation\, and the Cornerstone Senior Marketing team will be on hand to assist with contracting\, product inquiries\, and next steps for partnership. \nWe look forward to having you join us for this important discussion. To learn more about Cornerstone Senior Marketing\, please visit cornerstoneseniormarketing.com. We would be honored to earn your business. \nCLICK HERE TO REGISTER
URL:https://cornerstoneseniormarketing.com/event/physicians-mutual-med-supp-portfolio-expansion-mi-in-ky/
CATEGORIES:Webinar
END:VEVENT
END:VCALENDAR