BEGIN:VCALENDAR
VERSION:2.0
PRODID:-//Cornerstone - Senior Marketing - ECPv6.15.17.1//NONSGML v1.0//EN
CALSCALE:GREGORIAN
METHOD:PUBLISH
X-WR-CALNAME:Cornerstone - Senior Marketing
X-ORIGINAL-URL:https://cornerstoneseniormarketing.com
X-WR-CALDESC:Events for Cornerstone - Senior Marketing
REFRESH-INTERVAL;VALUE=DURATION:PT1H
X-Robots-Tag:noindex
X-PUBLISHED-TTL:PT1H
BEGIN:VTIMEZONE
TZID:America/New_York
BEGIN:DAYLIGHT
TZOFFSETFROM:-0500
TZOFFSETTO:-0400
TZNAME:EDT
DTSTART:20250309T070000
END:DAYLIGHT
BEGIN:STANDARD
TZOFFSETFROM:-0400
TZOFFSETTO:-0500
TZNAME:EST
DTSTART:20251102T060000
END:STANDARD
BEGIN:DAYLIGHT
TZOFFSETFROM:-0500
TZOFFSETTO:-0400
TZNAME:EDT
DTSTART:20260308T070000
END:DAYLIGHT
BEGIN:STANDARD
TZOFFSETFROM:-0400
TZOFFSETTO:-0500
TZNAME:EST
DTSTART:20261101T060000
END:STANDARD
BEGIN:DAYLIGHT
TZOFFSETFROM:-0500
TZOFFSETTO:-0400
TZNAME:EDT
DTSTART:20270314T070000
END:DAYLIGHT
BEGIN:STANDARD
TZOFFSETFROM:-0400
TZOFFSETTO:-0500
TZNAME:EST
DTSTART:20271107T060000
END:STANDARD
END:VTIMEZONE
BEGIN:VEVENT
DTSTART;TZID=America/New_York:20260519T100000
DTEND;TZID=America/New_York:20260519T110000
DTSTAMP:20260421T222742
CREATED:20260413T141033Z
LAST-MODIFIED:20260413T141033Z
UID:68164-1779184800-1779188400@cornerstoneseniormarketing.com
SUMMARY:Anthem Ohio: Grassroots Marketing
DESCRIPTION:Link to register for Events  Broker Connect \nOnce you are logged in: \n\nclick on Events\nselect “Ohio” from the State drop down tab\nscroll to the event(s) you want to register to attend and click “Register”
URL:https://cornerstoneseniormarketing.com/event/anthem-ohio-grassroots-marketing-3/
CATEGORIES:Webinar
END:VEVENT
BEGIN:VEVENT
DTSTART;TZID=America/New_York:20260526T100000
DTEND;TZID=America/New_York:20260526T110000
DTSTAMP:20260421T222742
CREATED:20260413T141054Z
LAST-MODIFIED:20260413T141054Z
UID:68166-1779789600-1779793200@cornerstoneseniormarketing.com
SUMMARY:Anthem Ohio: NationsBenefits & SSBCI Validation
DESCRIPTION:Link to register for Events  Broker Connect \nOnce you are logged in: \n\nclick on Events\nselect “Ohio” from the State drop down tab\nscroll to the event(s) you want to register to attend and click “Register”
URL:https://cornerstoneseniormarketing.com/event/anthem-ohio-nationsbenefits-ssbci-validation/
CATEGORIES:Webinar
END:VEVENT
BEGIN:VEVENT
DTSTART;TZID=America/New_York:20260602T100000
DTEND;TZID=America/New_York:20260602T110000
DTSTAMP:20260421T222742
CREATED:20260407T191138Z
LAST-MODIFIED:20260407T191138Z
UID:68143-1780394400-1780398000@cornerstoneseniormarketing.com
SUMMARY:Silver and Fit Benefits with HealthSpring Plans
DESCRIPTION:Silver and Fit is a benefit on HealthSpring plans that provide your clients to stay active and healthy. Come learn more about what all Silver and Fit offers HealthSpring members so that you can help empower yourself and your clients! \nREGISTER
URL:https://cornerstoneseniormarketing.com/event/silver-and-fit-benefits-with-healthspring-plans/
CATEGORIES:Webinar
END:VEVENT
BEGIN:VEVENT
DTSTART;TZID=America/New_York:20260602T100000
DTEND;TZID=America/New_York:20260602T110000
DTSTAMP:20260421T222742
CREATED:20260413T141113Z
LAST-MODIFIED:20260413T141113Z
UID:68168-1780394400-1780398000@cornerstoneseniormarketing.com
SUMMARY:Anthem Ohio: Medicare Supplements
DESCRIPTION:Link to register for Events  Broker Connect \nOnce you are logged in: \n\nclick on Events\nselect “Ohio” from the State drop down tab\nscroll to the event(s) you want to register to attend and click “Register”
URL:https://cornerstoneseniormarketing.com/event/anthem-ohio-medicare-supplements-2/
CATEGORIES:Webinar
END:VEVENT
BEGIN:VEVENT
DTSTART;TZID=America/New_York:20260609T100000
DTEND;TZID=America/New_York:20260609T110000
DTSTAMP:20260421T222742
CREATED:20260413T141141Z
LAST-MODIFIED:20260413T141141Z
UID:68170-1780999200-1781002800@cornerstoneseniormarketing.com
SUMMARY:Anthem Ohio: MyCare Ohio FIDE\, Waivers\, Value Added benefits & Provider Network
DESCRIPTION:Link to register for Events  Broker Connect \nOnce you are logged in: \n\nclick on Events\nselect “Ohio” from the State drop down tab\nscroll to the event(s) you want to register to attend and click “Register”
URL:https://cornerstoneseniormarketing.com/event/anthem-ohio-mycare-ohio-fide-waivers-value-added-benefits-provider-network-2/
CATEGORIES:Webinar
END:VEVENT
BEGIN:VEVENT
DTSTART;TZID=America/New_York:20260616T100000
DTEND;TZID=America/New_York:20260616T110000
DTSTAMP:20260421T222742
CREATED:20260413T141220Z
LAST-MODIFIED:20260413T141220Z
UID:68172-1781604000-1781607600@cornerstoneseniormarketing.com
SUMMARY:Anthem Ohio: Producer toolbox\, Shop.Anthem.com\, & mProducer - Live Demo
DESCRIPTION:Link to register for Events  Broker Connect \nOnce you are logged in: \n\nclick on Events\nselect “Ohio” from the State drop down tab\nscroll to the event(s) you want to register to attend and click “Register”
URL:https://cornerstoneseniormarketing.com/event/anthem-ohio-producer-toolbox-shop-anthem-com-mproducer-live-demo/
CATEGORIES:Webinar
END:VEVENT
END:VCALENDAR