BEGIN:VCALENDAR
VERSION:2.0
PRODID:-//Cornerstone - Senior Marketing - ECPv6.15.17.1//NONSGML v1.0//EN
CALSCALE:GREGORIAN
METHOD:PUBLISH
X-ORIGINAL-URL:https://cornerstoneseniormarketing.com
X-WR-CALDESC:Events for Cornerstone - Senior Marketing
REFRESH-INTERVAL;VALUE=DURATION:PT1H
X-Robots-Tag:noindex
X-PUBLISHED-TTL:PT1H
BEGIN:VTIMEZONE
TZID:America/New_York
BEGIN:DAYLIGHT
TZOFFSETFROM:-0500
TZOFFSETTO:-0400
TZNAME:EDT
DTSTART:20250309T070000
END:DAYLIGHT
BEGIN:STANDARD
TZOFFSETFROM:-0400
TZOFFSETTO:-0500
TZNAME:EST
DTSTART:20251102T060000
END:STANDARD
BEGIN:DAYLIGHT
TZOFFSETFROM:-0500
TZOFFSETTO:-0400
TZNAME:EDT
DTSTART:20260308T070000
END:DAYLIGHT
BEGIN:STANDARD
TZOFFSETFROM:-0400
TZOFFSETTO:-0500
TZNAME:EST
DTSTART:20261101T060000
END:STANDARD
BEGIN:DAYLIGHT
TZOFFSETFROM:-0500
TZOFFSETTO:-0400
TZNAME:EDT
DTSTART:20270314T070000
END:DAYLIGHT
BEGIN:STANDARD
TZOFFSETFROM:-0400
TZOFFSETTO:-0500
TZNAME:EST
DTSTART:20271107T060000
END:STANDARD
END:VTIMEZONE
BEGIN:VEVENT
DTSTART;TZID=America/New_York:20260323T120000
DTEND;TZID=America/New_York:20260323T123000
DTSTAMP:20260421T203801
CREATED:20260226T155517Z
LAST-MODIFIED:20260319T143340Z
UID:67686-1774267200-1774269000@cornerstoneseniormarketing.com
SUMMARY:Physicians Mutual - Agent Portal Overview
DESCRIPTION:Learn the step by step process to access the Physcians Mutual agent platform. Examples of how to login and platform basics will be covered. \nCLICK HERE TO JOIN
URL:https://cornerstoneseniormarketing.com/event/physicians-mutual-agent-portal-overview-4/
CATEGORIES:Webinar
END:VEVENT
BEGIN:VEVENT
DTSTART;TZID=America/New_York:20260323T113000
DTEND;TZID=America/New_York:20260323T120000
DTSTAMP:20260421T203801
CREATED:20260318T125642Z
LAST-MODIFIED:20260318T125656Z
UID:67864-1774265400-1774267200@cornerstoneseniormarketing.com
SUMMARY:CSG App Feature Focus: Fill Med Adv Coverage Gaps with Hospital Indemnity
DESCRIPTION:REGISTER
URL:https://cornerstoneseniormarketing.com/event/csg-app-feature-focus/
CATEGORIES:Webinar
END:VEVENT
BEGIN:VEVENT
DTSTART;TZID=America/New_York:20260323T110000
DTEND;TZID=America/New_York:20260323T120000
DTSTAMP:20260421T203801
CREATED:20260318T125837Z
LAST-MODIFIED:20260318T125837Z
UID:67871-1774263600-1774267200@cornerstoneseniormarketing.com
SUMMARY:Integrity Life | Life Agents New to IntegrityCONNECT
DESCRIPTION:REGISTER
URL:https://cornerstoneseniormarketing.com/event/integrity-life-life-agents-new-to-integrityconnect/
CATEGORIES:Webinar
END:VEVENT
END:VCALENDAR